BEGIN:VCALENDAR
VERSION:2.0
PRODID:-//The Gift Theatre - ECPv6.15.20//NONSGML v1.0//EN
CALSCALE:GREGORIAN
METHOD:PUBLISH
X-WR-CALNAME:The Gift Theatre
X-ORIGINAL-URL:https://thegifttheatre.org
X-WR-CALDESC:Events for The Gift Theatre
REFRESH-INTERVAL;VALUE=DURATION:PT1H
X-Robots-Tag:noindex
X-PUBLISHED-TTL:PT1H
BEGIN:VTIMEZONE
TZID:America/Chicago
BEGIN:DAYLIGHT
TZOFFSETFROM:-0600
TZOFFSETTO:-0500
TZNAME:CDT
DTSTART:20240310T080000
END:DAYLIGHT
BEGIN:STANDARD
TZOFFSETFROM:-0500
TZOFFSETTO:-0600
TZNAME:CST
DTSTART:20241103T070000
END:STANDARD
BEGIN:DAYLIGHT
TZOFFSETFROM:-0600
TZOFFSETTO:-0500
TZNAME:CDT
DTSTART:20250309T080000
END:DAYLIGHT
BEGIN:STANDARD
TZOFFSETFROM:-0500
TZOFFSETTO:-0600
TZNAME:CST
DTSTART:20251102T070000
END:STANDARD
BEGIN:DAYLIGHT
TZOFFSETFROM:-0600
TZOFFSETTO:-0500
TZNAME:CDT
DTSTART:20260308T080000
END:DAYLIGHT
BEGIN:STANDARD
TZOFFSETFROM:-0500
TZOFFSETTO:-0600
TZNAME:CST
DTSTART:20261101T070000
END:STANDARD
END:VTIMEZONE
BEGIN:VEVENT
DTSTART;TZID=America/Chicago:20251110T193000
DTEND;TZID=America/Chicago:20251110T213000
DTSTAMP:20260421T004016
CREATED:20251103T212503Z
LAST-MODIFIED:20251103T215938Z
UID:10003962-1762803000-1762810200@thegifttheatre.org
SUMMARY:In the Works- A Little Ghost Story
DESCRIPTION:The Gift Theatre presents \nIn The Works: A Little Ghost Story \nby Jennifer Rumberger \nDirected by John Gawlik \nStage Managed by Sarah Luse \nJoin us for the next installment of In The Works\, our staged reading series devoted to new plays in development by local playwrights. \n\n\n\n\n\n“Lettie returns to her childhood home in Florida for Christmas\, taking a break from her struggling acting career in New York. She finds the house empty and mid-renovation\, her father on edge and haunted by strange occurrences in the space where her sister\, Mara\, died of an opioid overdose a year earlier. As the holidays approach\, the family grapples with how to move forward in a home that\, even stripped to its bones\, refuses to let go of the past.”\n\n\n\n\n\n\n\nMonday\, November 10 at 7:30 PM \nThe Gateway Lounge at the Copernicus Center \n5216 W Lawrence Ave\, Chicago\, IL 60630 \nDoors open at 7 PM — come early to grab a drink at the bar and find a good seat. \nFeaturing: \nJack – Jack Bronis \nLettie – Angela Morris \nClaire – Alexis Atwill \nMara – Hannah Toriumi-Fragman \nShandee – Allison Cain \nStage Directions – Pat Weber \nClick below to RSVP your ticket!
URL:https://thegifttheatre.org/event/in-the-works-a-little-ghost-story/
LOCATION:IL
END:VEVENT
END:VCALENDAR