BEGIN:VCALENDAR
VERSION:2.0
PRODID:-//The Gift Theatre - ECPv6.15.20//NONSGML v1.0//EN
CALSCALE:GREGORIAN
METHOD:PUBLISH
X-WR-CALNAME:The Gift Theatre
X-ORIGINAL-URL:https://thegifttheatre.org
X-WR-CALDESC:Events for The Gift Theatre
REFRESH-INTERVAL;VALUE=DURATION:PT1H
X-Robots-Tag:noindex
X-PUBLISHED-TTL:PT1H
BEGIN:VTIMEZONE
TZID:America/Chicago
BEGIN:DAYLIGHT
TZOFFSETFROM:-0600
TZOFFSETTO:-0500
TZNAME:CDT
DTSTART:20240310T080000
END:DAYLIGHT
BEGIN:STANDARD
TZOFFSETFROM:-0500
TZOFFSETTO:-0600
TZNAME:CST
DTSTART:20241103T070000
END:STANDARD
BEGIN:DAYLIGHT
TZOFFSETFROM:-0600
TZOFFSETTO:-0500
TZNAME:CDT
DTSTART:20250309T080000
END:DAYLIGHT
BEGIN:STANDARD
TZOFFSETFROM:-0500
TZOFFSETTO:-0600
TZNAME:CST
DTSTART:20251102T070000
END:STANDARD
BEGIN:DAYLIGHT
TZOFFSETFROM:-0600
TZOFFSETTO:-0500
TZNAME:CDT
DTSTART:20260308T080000
END:DAYLIGHT
BEGIN:STANDARD
TZOFFSETFROM:-0500
TZOFFSETTO:-0600
TZNAME:CST
DTSTART:20261101T070000
END:STANDARD
END:VTIMEZONE
BEGIN:VEVENT
DTSTART;TZID=America/Chicago:20250301T193000
DTEND;TZID=America/Chicago:20250301T213000
DTSTAMP:20260420T171806
CREATED:20241122T225531Z
LAST-MODIFIED:20250303T190800Z
UID:10003792-1740857400-1740864600@thegifttheatre.org
SUMMARY:CYGNUS by Susan Soon He Stanton
DESCRIPTION:CYGNUS -World Premiere Production\nWritten by Susan Soon He Stanton Multi Award Winner\, Writer\, and Producer of HBO’s Succession\nDirected by Co-Artistic Director\, Brittany Burch\n\nCydney believes an angel rescued her from an ineffable trauma\, and the truth may prove stranger than she imagines. In this mythic\, hilarious\, and poetic new play\, a burnt feather may illuminate the possibility of a divine intervention.\n\nFebruary 6 – March 16\, 2025\nPerforming at the Filament Theatre\n4041 N. Milwaukee Ave\n\nPreview Performances: February 6-February 15th. Thursday-Saturday at 7:30pm and Sunday at 3pm.\nOpening Night Performance February 16th at 6pm\n\nCYGNUS runs 1 hour and 45 mins with no intermission\nPlease note there will be NO LATE SEATING for this production\nClick here for tickets\nFeaturing\nAngela Morris\, Jeff Rodriguez\, and Rengin Altay
URL:https://thegifttheatre.org/event/cygnus-by-susan-soon-he-stanton/2025-03-01/
LOCATION:Filament Theater\, 4041 N. Milwaukee\, Chicago\, IL\, 60641
END:VEVENT
BEGIN:VEVENT
DTSTART;TZID=America/Chicago:20250302T150000
DTEND;TZID=America/Chicago:20250302T170000
DTSTAMP:20260420T171806
CREATED:20241122T225531Z
LAST-MODIFIED:20250303T190800Z
UID:10003793-1740927600-1740934800@thegifttheatre.org
SUMMARY:CYGNUS by Susan Soon He Stanton
DESCRIPTION:CYGNUS -World Premiere Production\nWritten by Susan Soon He Stanton Multi Award Winner\, Writer\, and Producer of HBO’s Succession\nDirected by Co-Artistic Director\, Brittany Burch\n\nCydney believes an angel rescued her from an ineffable trauma\, and the truth may prove stranger than she imagines. In this mythic\, hilarious\, and poetic new play\, a burnt feather may illuminate the possibility of a divine intervention.\n\nFebruary 6 – March 16\, 2025\nPerforming at the Filament Theatre\n4041 N. Milwaukee Ave\n\nPreview Performances: February 6-February 15th. Thursday-Saturday at 7:30pm and Sunday at 3pm.\nOpening Night Performance February 16th at 6pm\n\nCYGNUS runs 1 hour and 45 mins with no intermission\nPlease note there will be NO LATE SEATING for this production\nClick here for tickets\nFeaturing\nAngela Morris\, Jeff Rodriguez\, and Rengin Altay
URL:https://thegifttheatre.org/event/cygnus-by-susan-soon-he-stanton/2025-03-02/
LOCATION:Filament Theater\, 4041 N. Milwaukee\, Chicago\, IL\, 60641
END:VEVENT
BEGIN:VEVENT
DTSTART;TZID=America/Chicago:20250306T193000
DTEND;TZID=America/Chicago:20250306T213000
DTSTAMP:20260420T171806
CREATED:20241122T225531Z
LAST-MODIFIED:20250303T190800Z
UID:10003794-1741289400-1741296600@thegifttheatre.org
SUMMARY:CYGNUS by Susan Soon He Stanton
DESCRIPTION:CYGNUS -World Premiere Production\nWritten by Susan Soon He Stanton Multi Award Winner\, Writer\, and Producer of HBO’s Succession\nDirected by Co-Artistic Director\, Brittany Burch\n\nCydney believes an angel rescued her from an ineffable trauma\, and the truth may prove stranger than she imagines. In this mythic\, hilarious\, and poetic new play\, a burnt feather may illuminate the possibility of a divine intervention.\n\nFebruary 6 – March 16\, 2025\nPerforming at the Filament Theatre\n4041 N. Milwaukee Ave\n\nPreview Performances: February 6-February 15th. Thursday-Saturday at 7:30pm and Sunday at 3pm.\nOpening Night Performance February 16th at 6pm\n\nCYGNUS runs 1 hour and 45 mins with no intermission\nPlease note there will be NO LATE SEATING for this production\nClick here for tickets\nFeaturing\nAngela Morris\, Jeff Rodriguez\, and Rengin Altay
URL:https://thegifttheatre.org/event/cygnus-by-susan-soon-he-stanton/2025-03-06/
LOCATION:Filament Theater\, 4041 N. Milwaukee\, Chicago\, IL\, 60641
END:VEVENT
BEGIN:VEVENT
DTSTART;TZID=America/Chicago:20250307T193000
DTEND;TZID=America/Chicago:20250307T213000
DTSTAMP:20260420T171806
CREATED:20241122T225531Z
LAST-MODIFIED:20250303T190800Z
UID:10003795-1741375800-1741383000@thegifttheatre.org
SUMMARY:CYGNUS by Susan Soon He Stanton
DESCRIPTION:CYGNUS -World Premiere Production\nWritten by Susan Soon He Stanton Multi Award Winner\, Writer\, and Producer of HBO’s Succession\nDirected by Co-Artistic Director\, Brittany Burch\n\nCydney believes an angel rescued her from an ineffable trauma\, and the truth may prove stranger than she imagines. In this mythic\, hilarious\, and poetic new play\, a burnt feather may illuminate the possibility of a divine intervention.\n\nFebruary 6 – March 16\, 2025\nPerforming at the Filament Theatre\n4041 N. Milwaukee Ave\n\nPreview Performances: February 6-February 15th. Thursday-Saturday at 7:30pm and Sunday at 3pm.\nOpening Night Performance February 16th at 6pm\n\nCYGNUS runs 1 hour and 45 mins with no intermission\nPlease note there will be NO LATE SEATING for this production\nClick here for tickets\nFeaturing\nAngela Morris\, Jeff Rodriguez\, and Rengin Altay
URL:https://thegifttheatre.org/event/cygnus-by-susan-soon-he-stanton/2025-03-07/
LOCATION:Filament Theater\, 4041 N. Milwaukee\, Chicago\, IL\, 60641
END:VEVENT
BEGIN:VEVENT
DTSTART;TZID=America/Chicago:20250308T193000
DTEND;TZID=America/Chicago:20250308T213000
DTSTAMP:20260420T171806
CREATED:20241122T225531Z
LAST-MODIFIED:20250303T190800Z
UID:10003796-1741462200-1741469400@thegifttheatre.org
SUMMARY:CYGNUS by Susan Soon He Stanton
DESCRIPTION:CYGNUS -World Premiere Production\nWritten by Susan Soon He Stanton Multi Award Winner\, Writer\, and Producer of HBO’s Succession\nDirected by Co-Artistic Director\, Brittany Burch\n\nCydney believes an angel rescued her from an ineffable trauma\, and the truth may prove stranger than she imagines. In this mythic\, hilarious\, and poetic new play\, a burnt feather may illuminate the possibility of a divine intervention.\n\nFebruary 6 – March 16\, 2025\nPerforming at the Filament Theatre\n4041 N. Milwaukee Ave\n\nPreview Performances: February 6-February 15th. Thursday-Saturday at 7:30pm and Sunday at 3pm.\nOpening Night Performance February 16th at 6pm\n\nCYGNUS runs 1 hour and 45 mins with no intermission\nPlease note there will be NO LATE SEATING for this production\nClick here for tickets\nFeaturing\nAngela Morris\, Jeff Rodriguez\, and Rengin Altay
URL:https://thegifttheatre.org/event/cygnus-by-susan-soon-he-stanton/2025-03-08/
LOCATION:Filament Theater\, 4041 N. Milwaukee\, Chicago\, IL\, 60641
END:VEVENT
BEGIN:VEVENT
DTSTART;TZID=America/Chicago:20250309T150000
DTEND;TZID=America/Chicago:20250309T170000
DTSTAMP:20260420T171806
CREATED:20241122T225531Z
LAST-MODIFIED:20250303T190800Z
UID:10003797-1741532400-1741539600@thegifttheatre.org
SUMMARY:CYGNUS by Susan Soon He Stanton
DESCRIPTION:CYGNUS -World Premiere Production\nWritten by Susan Soon He Stanton Multi Award Winner\, Writer\, and Producer of HBO’s Succession\nDirected by Co-Artistic Director\, Brittany Burch\n\nCydney believes an angel rescued her from an ineffable trauma\, and the truth may prove stranger than she imagines. In this mythic\, hilarious\, and poetic new play\, a burnt feather may illuminate the possibility of a divine intervention.\n\nFebruary 6 – March 16\, 2025\nPerforming at the Filament Theatre\n4041 N. Milwaukee Ave\n\nPreview Performances: February 6-February 15th. Thursday-Saturday at 7:30pm and Sunday at 3pm.\nOpening Night Performance February 16th at 6pm\n\nCYGNUS runs 1 hour and 45 mins with no intermission\nPlease note there will be NO LATE SEATING for this production\nClick here for tickets\nFeaturing\nAngela Morris\, Jeff Rodriguez\, and Rengin Altay
URL:https://thegifttheatre.org/event/cygnus-by-susan-soon-he-stanton/2025-03-09/
LOCATION:Filament Theater\, 4041 N. Milwaukee\, Chicago\, IL\, 60641
END:VEVENT
BEGIN:VEVENT
DTSTART;TZID=America/Chicago:20250313T193000
DTEND;TZID=America/Chicago:20250313T213000
DTSTAMP:20260420T171806
CREATED:20241122T225531Z
LAST-MODIFIED:20250303T190800Z
UID:10003798-1741894200-1741901400@thegifttheatre.org
SUMMARY:CYGNUS by Susan Soon He Stanton
DESCRIPTION:CYGNUS -World Premiere Production\nWritten by Susan Soon He Stanton Multi Award Winner\, Writer\, and Producer of HBO’s Succession\nDirected by Co-Artistic Director\, Brittany Burch\n\nCydney believes an angel rescued her from an ineffable trauma\, and the truth may prove stranger than she imagines. In this mythic\, hilarious\, and poetic new play\, a burnt feather may illuminate the possibility of a divine intervention.\n\nFebruary 6 – March 16\, 2025\nPerforming at the Filament Theatre\n4041 N. Milwaukee Ave\n\nPreview Performances: February 6-February 15th. Thursday-Saturday at 7:30pm and Sunday at 3pm.\nOpening Night Performance February 16th at 6pm\n\nCYGNUS runs 1 hour and 45 mins with no intermission\nPlease note there will be NO LATE SEATING for this production\nClick here for tickets\nFeaturing\nAngela Morris\, Jeff Rodriguez\, and Rengin Altay
URL:https://thegifttheatre.org/event/cygnus-by-susan-soon-he-stanton/2025-03-13/
LOCATION:Filament Theater\, 4041 N. Milwaukee\, Chicago\, IL\, 60641
END:VEVENT
BEGIN:VEVENT
DTSTART;TZID=America/Chicago:20250314T193000
DTEND;TZID=America/Chicago:20250314T213000
DTSTAMP:20260420T171806
CREATED:20241122T225531Z
LAST-MODIFIED:20250303T190800Z
UID:10003799-1741980600-1741987800@thegifttheatre.org
SUMMARY:CYGNUS by Susan Soon He Stanton
DESCRIPTION:CYGNUS -World Premiere Production\nWritten by Susan Soon He Stanton Multi Award Winner\, Writer\, and Producer of HBO’s Succession\nDirected by Co-Artistic Director\, Brittany Burch\n\nCydney believes an angel rescued her from an ineffable trauma\, and the truth may prove stranger than she imagines. In this mythic\, hilarious\, and poetic new play\, a burnt feather may illuminate the possibility of a divine intervention.\n\nFebruary 6 – March 16\, 2025\nPerforming at the Filament Theatre\n4041 N. Milwaukee Ave\n\nPreview Performances: February 6-February 15th. Thursday-Saturday at 7:30pm and Sunday at 3pm.\nOpening Night Performance February 16th at 6pm\n\nCYGNUS runs 1 hour and 45 mins with no intermission\nPlease note there will be NO LATE SEATING for this production\nClick here for tickets\nFeaturing\nAngela Morris\, Jeff Rodriguez\, and Rengin Altay
URL:https://thegifttheatre.org/event/cygnus-by-susan-soon-he-stanton/2025-03-14/
LOCATION:Filament Theater\, 4041 N. Milwaukee\, Chicago\, IL\, 60641
END:VEVENT
BEGIN:VEVENT
DTSTART;TZID=America/Chicago:20250315T193000
DTEND;TZID=America/Chicago:20250315T213000
DTSTAMP:20260420T171806
CREATED:20241122T225531Z
LAST-MODIFIED:20250303T190800Z
UID:10003800-1742067000-1742074200@thegifttheatre.org
SUMMARY:CYGNUS by Susan Soon He Stanton
DESCRIPTION:CYGNUS -World Premiere Production\nWritten by Susan Soon He Stanton Multi Award Winner\, Writer\, and Producer of HBO’s Succession\nDirected by Co-Artistic Director\, Brittany Burch\n\nCydney believes an angel rescued her from an ineffable trauma\, and the truth may prove stranger than she imagines. In this mythic\, hilarious\, and poetic new play\, a burnt feather may illuminate the possibility of a divine intervention.\n\nFebruary 6 – March 16\, 2025\nPerforming at the Filament Theatre\n4041 N. Milwaukee Ave\n\nPreview Performances: February 6-February 15th. Thursday-Saturday at 7:30pm and Sunday at 3pm.\nOpening Night Performance February 16th at 6pm\n\nCYGNUS runs 1 hour and 45 mins with no intermission\nPlease note there will be NO LATE SEATING for this production\nClick here for tickets\nFeaturing\nAngela Morris\, Jeff Rodriguez\, and Rengin Altay
URL:https://thegifttheatre.org/event/cygnus-by-susan-soon-he-stanton/2025-03-15/
LOCATION:Filament Theater\, 4041 N. Milwaukee\, Chicago\, IL\, 60641
END:VEVENT
BEGIN:VEVENT
DTSTART;TZID=America/Chicago:20250316T150000
DTEND;TZID=America/Chicago:20250316T170000
DTSTAMP:20260420T171806
CREATED:20241122T225531Z
LAST-MODIFIED:20250303T190800Z
UID:10003801-1742137200-1742144400@thegifttheatre.org
SUMMARY:CYGNUS by Susan Soon He Stanton
DESCRIPTION:CYGNUS -World Premiere Production\nWritten by Susan Soon He Stanton Multi Award Winner\, Writer\, and Producer of HBO’s Succession\nDirected by Co-Artistic Director\, Brittany Burch\n\nCydney believes an angel rescued her from an ineffable trauma\, and the truth may prove stranger than she imagines. In this mythic\, hilarious\, and poetic new play\, a burnt feather may illuminate the possibility of a divine intervention.\n\nFebruary 6 – March 16\, 2025\nPerforming at the Filament Theatre\n4041 N. Milwaukee Ave\n\nPreview Performances: February 6-February 15th. Thursday-Saturday at 7:30pm and Sunday at 3pm.\nOpening Night Performance February 16th at 6pm\n\nCYGNUS runs 1 hour and 45 mins with no intermission\nPlease note there will be NO LATE SEATING for this production\nClick here for tickets\nFeaturing\nAngela Morris\, Jeff Rodriguez\, and Rengin Altay
URL:https://thegifttheatre.org/event/cygnus-by-susan-soon-he-stanton/2025-03-16/
LOCATION:Filament Theater\, 4041 N. Milwaukee\, Chicago\, IL\, 60641
END:VEVENT
END:VCALENDAR