BEGIN:VCALENDAR
VERSION:2.0
PRODID:-//The Gift Theatre - ECPv6.15.20//NONSGML v1.0//EN
CALSCALE:GREGORIAN
METHOD:PUBLISH
X-WR-CALNAME:The Gift Theatre
X-ORIGINAL-URL:https://thegifttheatre.org
X-WR-CALDESC:Events for The Gift Theatre
REFRESH-INTERVAL;VALUE=DURATION:PT1H
X-Robots-Tag:noindex
X-PUBLISHED-TTL:PT1H
BEGIN:VTIMEZONE
TZID:America/Chicago
BEGIN:DAYLIGHT
TZOFFSETFROM:-0600
TZOFFSETTO:-0500
TZNAME:CDT
DTSTART:20230312T080000
END:DAYLIGHT
BEGIN:STANDARD
TZOFFSETFROM:-0500
TZOFFSETTO:-0600
TZNAME:CST
DTSTART:20231105T070000
END:STANDARD
BEGIN:DAYLIGHT
TZOFFSETFROM:-0600
TZOFFSETTO:-0500
TZNAME:CDT
DTSTART:20240310T080000
END:DAYLIGHT
BEGIN:STANDARD
TZOFFSETFROM:-0500
TZOFFSETTO:-0600
TZNAME:CST
DTSTART:20241103T070000
END:STANDARD
BEGIN:DAYLIGHT
TZOFFSETFROM:-0600
TZOFFSETTO:-0500
TZNAME:CDT
DTSTART:20250309T080000
END:DAYLIGHT
BEGIN:STANDARD
TZOFFSETFROM:-0500
TZOFFSETTO:-0600
TZNAME:CST
DTSTART:20251102T070000
END:STANDARD
END:VTIMEZONE
BEGIN:VEVENT
DTSTART;TZID=America/Chicago:20241002T193000
DTEND;TZID=America/Chicago:20241002T220000
DTSTAMP:20260420T101109
CREATED:20240927T173750Z
LAST-MODIFIED:20240927T173750Z
UID:10003327-1727897400-1727906400@thegifttheatre.org
SUMMARY:TOPDOG/UNDERDOG by Suzan-Lori Parks
DESCRIPTION:This darkly comic fable of brotherly love and family identity tells the story of two brothers\, Lincoln (Manning) and Booth (Fenner)\, names given to them as a joke by their father. Haunted by the past and their obsession with the street con game\, three-card monte\, the brothers come to learn the true nature of their history. \nThe Gift Theatre’s Topdog/Underdog opens at Filament Theatre. \nTopdog/Underdog\nWritten by Suzan-Lori Parks\nDirected by Shanésia Davis\nSeptember 13- October 20\, 2024 | Filament Theatre \nPlease note that while all evening performances are 7:30pm\, the exception will be OPENING NIGHT\, Sunday\, September 22nd\, which opens at 6:00pm. \nAll Sunday matinee performances will have a 3:00pm start. \nACCESSIBLE PERFORMANCES \n\nFriday October 11\, 2024: Open-Captioned\, Assistive Listening Devices Available by Request\nSaturday\, October 12\, 2024: Open Captioned and Audio Described\, Assistive Listening Devices Available by Request\nThursday performances are masked!\n\nCAST\nMartel Manning (Lincoln)\, Gregory Fenner (Booth) \nCarlos Washington (U/S Lincoln)\, Jermaine Jenkins (U/S Booth) \nSTAGE MANAGER\nSarah Luse \nPRODUCTION MANAGER\nJennifer Aparicio \nTECHNICAL DIRECTOR\nDavid Preis \nCASTING\nCyd Blakewell
URL:https://thegifttheatre.org/event/topdog-underdog-by-suzan-lori-parks-2-2/2024-10-02/
LOCATION:Filament Theater\, 4041 N. Milwaukee\, Chicago\, IL\, 60641
CATEGORIES:Production
ATTACH;FMTTYPE=image/jpeg:https://thegifttheatre.org/wp-content/uploads/2024/04/IG_Topdog_Final-scaled.jpg
END:VEVENT
BEGIN:VEVENT
DTSTART;TZID=America/Chicago:20241003T193000
DTEND;TZID=America/Chicago:20241003T220000
DTSTAMP:20260420T101109
CREATED:20240927T173750Z
LAST-MODIFIED:20240927T173750Z
UID:10003309-1727983800-1727992800@thegifttheatre.org
SUMMARY:TOPDOG/UNDERDOG by Suzan-Lori Parks
DESCRIPTION:This darkly comic fable of brotherly love and family identity tells the story of two brothers\, Lincoln (Manning) and Booth (Fenner)\, names given to them as a joke by their father. Haunted by the past and their obsession with the street con game\, three-card monte\, the brothers come to learn the true nature of their history. \nThe Gift Theatre’s Topdog/Underdog opens at Filament Theatre. \nTopdog/Underdog\nWritten by Suzan-Lori Parks\nDirected by Shanésia Davis\nSeptember 13- October 20\, 2024 | Filament Theatre \nPlease note that while all evening performances are 7:30pm\, the exception will be OPENING NIGHT\, Sunday\, September 22nd\, which opens at 6:00pm. \nAll Sunday matinee performances will have a 3:00pm start. \nACCESSIBLE PERFORMANCES \n\nFriday October 11\, 2024: Open-Captioned\, Assistive Listening Devices Available by Request\nSaturday\, October 12\, 2024: Open Captioned and Audio Described\, Assistive Listening Devices Available by Request\nThursday performances are masked!\n\nCAST\nMartel Manning (Lincoln)\, Gregory Fenner (Booth) \nCarlos Washington (U/S Lincoln)\, Jermaine Jenkins (U/S Booth) \nSTAGE MANAGER\nSarah Luse \nPRODUCTION MANAGER\nJennifer Aparicio \nTECHNICAL DIRECTOR\nDavid Preis \nCASTING\nCyd Blakewell
URL:https://thegifttheatre.org/event/topdog-underdog-by-suzan-lori-parks-2-2/2024-10-03/
LOCATION:Filament Theater\, 4041 N. Milwaukee\, Chicago\, IL\, 60641
CATEGORIES:Production
ATTACH;FMTTYPE=image/jpeg:https://thegifttheatre.org/wp-content/uploads/2024/04/IG_Topdog_Final-scaled.jpg
END:VEVENT
BEGIN:VEVENT
DTSTART;TZID=America/Chicago:20241004T193000
DTEND;TZID=America/Chicago:20241004T220000
DTSTAMP:20260420T101109
CREATED:20240927T173750Z
LAST-MODIFIED:20240927T173750Z
UID:10003310-1728070200-1728079200@thegifttheatre.org
SUMMARY:TOPDOG/UNDERDOG by Suzan-Lori Parks
DESCRIPTION:This darkly comic fable of brotherly love and family identity tells the story of two brothers\, Lincoln (Manning) and Booth (Fenner)\, names given to them as a joke by their father. Haunted by the past and their obsession with the street con game\, three-card monte\, the brothers come to learn the true nature of their history. \nThe Gift Theatre’s Topdog/Underdog opens at Filament Theatre. \nTopdog/Underdog\nWritten by Suzan-Lori Parks\nDirected by Shanésia Davis\nSeptember 13- October 20\, 2024 | Filament Theatre \nPlease note that while all evening performances are 7:30pm\, the exception will be OPENING NIGHT\, Sunday\, September 22nd\, which opens at 6:00pm. \nAll Sunday matinee performances will have a 3:00pm start. \nACCESSIBLE PERFORMANCES \n\nFriday October 11\, 2024: Open-Captioned\, Assistive Listening Devices Available by Request\nSaturday\, October 12\, 2024: Open Captioned and Audio Described\, Assistive Listening Devices Available by Request\nThursday performances are masked!\n\nCAST\nMartel Manning (Lincoln)\, Gregory Fenner (Booth) \nCarlos Washington (U/S Lincoln)\, Jermaine Jenkins (U/S Booth) \nSTAGE MANAGER\nSarah Luse \nPRODUCTION MANAGER\nJennifer Aparicio \nTECHNICAL DIRECTOR\nDavid Preis \nCASTING\nCyd Blakewell
URL:https://thegifttheatre.org/event/topdog-underdog-by-suzan-lori-parks-2-2/2024-10-04/
LOCATION:Filament Theater\, 4041 N. Milwaukee\, Chicago\, IL\, 60641
CATEGORIES:Production
ATTACH;FMTTYPE=image/jpeg:https://thegifttheatre.org/wp-content/uploads/2024/04/IG_Topdog_Final-scaled.jpg
END:VEVENT
BEGIN:VEVENT
DTSTART;TZID=America/Chicago:20241005T193000
DTEND;TZID=America/Chicago:20241005T220000
DTSTAMP:20260420T101109
CREATED:20240927T173750Z
LAST-MODIFIED:20240927T173750Z
UID:10003311-1728156600-1728165600@thegifttheatre.org
SUMMARY:TOPDOG/UNDERDOG by Suzan-Lori Parks
DESCRIPTION:This darkly comic fable of brotherly love and family identity tells the story of two brothers\, Lincoln (Manning) and Booth (Fenner)\, names given to them as a joke by their father. Haunted by the past and their obsession with the street con game\, three-card monte\, the brothers come to learn the true nature of their history. \nThe Gift Theatre’s Topdog/Underdog opens at Filament Theatre. \nTopdog/Underdog\nWritten by Suzan-Lori Parks\nDirected by Shanésia Davis\nSeptember 13- October 20\, 2024 | Filament Theatre \nPlease note that while all evening performances are 7:30pm\, the exception will be OPENING NIGHT\, Sunday\, September 22nd\, which opens at 6:00pm. \nAll Sunday matinee performances will have a 3:00pm start. \nACCESSIBLE PERFORMANCES \n\nFriday October 11\, 2024: Open-Captioned\, Assistive Listening Devices Available by Request\nSaturday\, October 12\, 2024: Open Captioned and Audio Described\, Assistive Listening Devices Available by Request\nThursday performances are masked!\n\nCAST\nMartel Manning (Lincoln)\, Gregory Fenner (Booth) \nCarlos Washington (U/S Lincoln)\, Jermaine Jenkins (U/S Booth) \nSTAGE MANAGER\nSarah Luse \nPRODUCTION MANAGER\nJennifer Aparicio \nTECHNICAL DIRECTOR\nDavid Preis \nCASTING\nCyd Blakewell
URL:https://thegifttheatre.org/event/topdog-underdog-by-suzan-lori-parks-2-2/2024-10-05/
LOCATION:Filament Theater\, 4041 N. Milwaukee\, Chicago\, IL\, 60641
CATEGORIES:Production
ATTACH;FMTTYPE=image/jpeg:https://thegifttheatre.org/wp-content/uploads/2024/04/IG_Topdog_Final-scaled.jpg
END:VEVENT
BEGIN:VEVENT
DTSTART;TZID=America/Chicago:20241006T150000
DTEND;TZID=America/Chicago:20241006T173000
DTSTAMP:20260420T101109
CREATED:20240927T173750Z
LAST-MODIFIED:20240927T173750Z
UID:10003328-1728226800-1728235800@thegifttheatre.org
SUMMARY:TOPDOG/UNDERDOG by Suzan-Lori Parks
DESCRIPTION:This darkly comic fable of brotherly love and family identity tells the story of two brothers\, Lincoln (Manning) and Booth (Fenner)\, names given to them as a joke by their father. Haunted by the past and their obsession with the street con game\, three-card monte\, the brothers come to learn the true nature of their history. \nThe Gift Theatre’s Topdog/Underdog opens at Filament Theatre. \nTopdog/Underdog\nWritten by Suzan-Lori Parks\nDirected by Shanésia Davis\nSeptember 13- October 20\, 2024 | Filament Theatre \nPlease note that while all evening performances are 7:30pm\, the exception will be OPENING NIGHT\, Sunday\, September 22nd\, which opens at 6:00pm. \nAll Sunday matinee performances will have a 3:00pm start. \nACCESSIBLE PERFORMANCES \n\nFriday October 11\, 2024: Open-Captioned\, Assistive Listening Devices Available by Request\nSaturday\, October 12\, 2024: Open Captioned and Audio Described\, Assistive Listening Devices Available by Request\nThursday performances are masked!\n\nCAST\nMartel Manning (Lincoln)\, Gregory Fenner (Booth) \nCarlos Washington (U/S Lincoln)\, Jermaine Jenkins (U/S Booth) \nSTAGE MANAGER\nSarah Luse \nPRODUCTION MANAGER\nJennifer Aparicio \nTECHNICAL DIRECTOR\nDavid Preis \nCASTING\nCyd Blakewell
URL:https://thegifttheatre.org/event/topdog-underdog-by-suzan-lori-parks-2-2/2024-10-06/
LOCATION:Filament Theater\, 4041 N. Milwaukee\, Chicago\, IL\, 60641
CATEGORIES:Production
ATTACH;FMTTYPE=image/jpeg:https://thegifttheatre.org/wp-content/uploads/2024/04/IG_Topdog_Final-scaled.jpg
END:VEVENT
BEGIN:VEVENT
DTSTART;TZID=America/Chicago:20241007T190000
DTEND;TZID=America/Chicago:20241007T210000
DTSTAMP:20260420T101109
CREATED:20241003T192405Z
LAST-MODIFIED:20241003T192449Z
UID:10003331-1728327600-1728334800@thegifttheatre.org
SUMMARY:In the Works: Equal & Terrifying by Kimberly Dixon-Mays
DESCRIPTION:Join us for The Gift Theatre’s next In The Works Staged Reading! \n\n\nEqual & Terrifying \nby Kimberly Dixon-Mays \nDirected by AmBer Montgomery \n\n\n\nPerformed by Shanésia Davis and Netta Walker\nMonday\, October 7 at 7:00 pm\nFilament Theatre\, 4041 N Milwaukee Ave.\n  \nAndrea\, a reclusive middle-aged visual artist\, has her work and life interrupted when Sophie\, a late friend’s twenty-something daughter\, comes looking for answers about her mother’s past. Andrea has no patience\, and Sophie has no filter. Worse\, the two get stuck in Andrea’s studio and a supernatural vicious cycle. They fight this unseen force to define what connection they owe each other\, and what escape looks like. This play is inspired by the “history repeating” nature not only of America’s 21st C. racial upheaval\, but also the timeless tensions between generations. \n  \nIn The Works is presented at no cost to audiences. Please RSVP to boxoffice@thegifttheatre.org to guarantee a seat\, or show up the evening of!
URL:https://thegifttheatre.org/event/in-the-works-equal-terrifying-by-kimberly-dixon-mays/
LOCATION:Filament Theater\, 4041 N. Milwaukee\, Chicago\, IL\, 60641
ATTACH;FMTTYPE=image/jpeg:https://thegifttheatre.org/wp-content/uploads/2024/10/Kimberly__20241003_140457-1.jpg
END:VEVENT
BEGIN:VEVENT
DTSTART;TZID=America/Chicago:20241010T193000
DTEND;TZID=America/Chicago:20241010T220000
DTSTAMP:20260420T101109
CREATED:20240927T173750Z
LAST-MODIFIED:20240927T173750Z
UID:10003312-1728588600-1728597600@thegifttheatre.org
SUMMARY:TOPDOG/UNDERDOG by Suzan-Lori Parks
DESCRIPTION:This darkly comic fable of brotherly love and family identity tells the story of two brothers\, Lincoln (Manning) and Booth (Fenner)\, names given to them as a joke by their father. Haunted by the past and their obsession with the street con game\, three-card monte\, the brothers come to learn the true nature of their history. \nThe Gift Theatre’s Topdog/Underdog opens at Filament Theatre. \nTopdog/Underdog\nWritten by Suzan-Lori Parks\nDirected by Shanésia Davis\nSeptember 13- October 20\, 2024 | Filament Theatre \nPlease note that while all evening performances are 7:30pm\, the exception will be OPENING NIGHT\, Sunday\, September 22nd\, which opens at 6:00pm. \nAll Sunday matinee performances will have a 3:00pm start. \nACCESSIBLE PERFORMANCES \n\nFriday October 11\, 2024: Open-Captioned\, Assistive Listening Devices Available by Request\nSaturday\, October 12\, 2024: Open Captioned and Audio Described\, Assistive Listening Devices Available by Request\nThursday performances are masked!\n\nCAST\nMartel Manning (Lincoln)\, Gregory Fenner (Booth) \nCarlos Washington (U/S Lincoln)\, Jermaine Jenkins (U/S Booth) \nSTAGE MANAGER\nSarah Luse \nPRODUCTION MANAGER\nJennifer Aparicio \nTECHNICAL DIRECTOR\nDavid Preis \nCASTING\nCyd Blakewell
URL:https://thegifttheatre.org/event/topdog-underdog-by-suzan-lori-parks-2-2/2024-10-10/
LOCATION:Filament Theater\, 4041 N. Milwaukee\, Chicago\, IL\, 60641
CATEGORIES:Production
ATTACH;FMTTYPE=image/jpeg:https://thegifttheatre.org/wp-content/uploads/2024/04/IG_Topdog_Final-scaled.jpg
END:VEVENT
BEGIN:VEVENT
DTSTART;TZID=America/Chicago:20241011T193000
DTEND;TZID=America/Chicago:20241011T220000
DTSTAMP:20260420T101109
CREATED:20240927T173750Z
LAST-MODIFIED:20240927T173750Z
UID:10003313-1728675000-1728684000@thegifttheatre.org
SUMMARY:TOPDOG/UNDERDOG by Suzan-Lori Parks
DESCRIPTION:This darkly comic fable of brotherly love and family identity tells the story of two brothers\, Lincoln (Manning) and Booth (Fenner)\, names given to them as a joke by their father. Haunted by the past and their obsession with the street con game\, three-card monte\, the brothers come to learn the true nature of their history. \nThe Gift Theatre’s Topdog/Underdog opens at Filament Theatre. \nTopdog/Underdog\nWritten by Suzan-Lori Parks\nDirected by Shanésia Davis\nSeptember 13- October 20\, 2024 | Filament Theatre \nPlease note that while all evening performances are 7:30pm\, the exception will be OPENING NIGHT\, Sunday\, September 22nd\, which opens at 6:00pm. \nAll Sunday matinee performances will have a 3:00pm start. \nACCESSIBLE PERFORMANCES \n\nFriday October 11\, 2024: Open-Captioned\, Assistive Listening Devices Available by Request\nSaturday\, October 12\, 2024: Open Captioned and Audio Described\, Assistive Listening Devices Available by Request\nThursday performances are masked!\n\nCAST\nMartel Manning (Lincoln)\, Gregory Fenner (Booth) \nCarlos Washington (U/S Lincoln)\, Jermaine Jenkins (U/S Booth) \nSTAGE MANAGER\nSarah Luse \nPRODUCTION MANAGER\nJennifer Aparicio \nTECHNICAL DIRECTOR\nDavid Preis \nCASTING\nCyd Blakewell
URL:https://thegifttheatre.org/event/topdog-underdog-by-suzan-lori-parks-2-2/2024-10-11/
LOCATION:Filament Theater\, 4041 N. Milwaukee\, Chicago\, IL\, 60641
CATEGORIES:Production
ATTACH;FMTTYPE=image/jpeg:https://thegifttheatre.org/wp-content/uploads/2024/04/IG_Topdog_Final-scaled.jpg
END:VEVENT
BEGIN:VEVENT
DTSTART;TZID=America/Chicago:20241012T193000
DTEND;TZID=America/Chicago:20241012T220000
DTSTAMP:20260420T101109
CREATED:20240927T173750Z
LAST-MODIFIED:20240927T173750Z
UID:10003314-1728761400-1728770400@thegifttheatre.org
SUMMARY:TOPDOG/UNDERDOG by Suzan-Lori Parks
DESCRIPTION:This darkly comic fable of brotherly love and family identity tells the story of two brothers\, Lincoln (Manning) and Booth (Fenner)\, names given to them as a joke by their father. Haunted by the past and their obsession with the street con game\, three-card monte\, the brothers come to learn the true nature of their history. \nThe Gift Theatre’s Topdog/Underdog opens at Filament Theatre. \nTopdog/Underdog\nWritten by Suzan-Lori Parks\nDirected by Shanésia Davis\nSeptember 13- October 20\, 2024 | Filament Theatre \nPlease note that while all evening performances are 7:30pm\, the exception will be OPENING NIGHT\, Sunday\, September 22nd\, which opens at 6:00pm. \nAll Sunday matinee performances will have a 3:00pm start. \nACCESSIBLE PERFORMANCES \n\nFriday October 11\, 2024: Open-Captioned\, Assistive Listening Devices Available by Request\nSaturday\, October 12\, 2024: Open Captioned and Audio Described\, Assistive Listening Devices Available by Request\nThursday performances are masked!\n\nCAST\nMartel Manning (Lincoln)\, Gregory Fenner (Booth) \nCarlos Washington (U/S Lincoln)\, Jermaine Jenkins (U/S Booth) \nSTAGE MANAGER\nSarah Luse \nPRODUCTION MANAGER\nJennifer Aparicio \nTECHNICAL DIRECTOR\nDavid Preis \nCASTING\nCyd Blakewell
URL:https://thegifttheatre.org/event/topdog-underdog-by-suzan-lori-parks-2-2/2024-10-12/
LOCATION:Filament Theater\, 4041 N. Milwaukee\, Chicago\, IL\, 60641
CATEGORIES:Production
ATTACH;FMTTYPE=image/jpeg:https://thegifttheatre.org/wp-content/uploads/2024/04/IG_Topdog_Final-scaled.jpg
END:VEVENT
BEGIN:VEVENT
DTSTART;TZID=America/Chicago:20241013T150000
DTEND;TZID=America/Chicago:20241013T173000
DTSTAMP:20260420T101109
CREATED:20240927T173750Z
LAST-MODIFIED:20240927T173750Z
UID:10003329-1728831600-1728840600@thegifttheatre.org
SUMMARY:TOPDOG/UNDERDOG by Suzan-Lori Parks
DESCRIPTION:This darkly comic fable of brotherly love and family identity tells the story of two brothers\, Lincoln (Manning) and Booth (Fenner)\, names given to them as a joke by their father. Haunted by the past and their obsession with the street con game\, three-card monte\, the brothers come to learn the true nature of their history. \nThe Gift Theatre’s Topdog/Underdog opens at Filament Theatre. \nTopdog/Underdog\nWritten by Suzan-Lori Parks\nDirected by Shanésia Davis\nSeptember 13- October 20\, 2024 | Filament Theatre \nPlease note that while all evening performances are 7:30pm\, the exception will be OPENING NIGHT\, Sunday\, September 22nd\, which opens at 6:00pm. \nAll Sunday matinee performances will have a 3:00pm start. \nACCESSIBLE PERFORMANCES \n\nFriday October 11\, 2024: Open-Captioned\, Assistive Listening Devices Available by Request\nSaturday\, October 12\, 2024: Open Captioned and Audio Described\, Assistive Listening Devices Available by Request\nThursday performances are masked!\n\nCAST\nMartel Manning (Lincoln)\, Gregory Fenner (Booth) \nCarlos Washington (U/S Lincoln)\, Jermaine Jenkins (U/S Booth) \nSTAGE MANAGER\nSarah Luse \nPRODUCTION MANAGER\nJennifer Aparicio \nTECHNICAL DIRECTOR\nDavid Preis \nCASTING\nCyd Blakewell
URL:https://thegifttheatre.org/event/topdog-underdog-by-suzan-lori-parks-2-2/2024-10-13/
LOCATION:Filament Theater\, 4041 N. Milwaukee\, Chicago\, IL\, 60641
CATEGORIES:Production
ATTACH;FMTTYPE=image/jpeg:https://thegifttheatre.org/wp-content/uploads/2024/04/IG_Topdog_Final-scaled.jpg
END:VEVENT
BEGIN:VEVENT
DTSTART;TZID=America/Chicago:20241017T193000
DTEND;TZID=America/Chicago:20241017T220000
DTSTAMP:20260420T101109
CREATED:20240927T173750Z
LAST-MODIFIED:20240927T173750Z
UID:10003315-1729193400-1729202400@thegifttheatre.org
SUMMARY:TOPDOG/UNDERDOG by Suzan-Lori Parks
DESCRIPTION:This darkly comic fable of brotherly love and family identity tells the story of two brothers\, Lincoln (Manning) and Booth (Fenner)\, names given to them as a joke by their father. Haunted by the past and their obsession with the street con game\, three-card monte\, the brothers come to learn the true nature of their history. \nThe Gift Theatre’s Topdog/Underdog opens at Filament Theatre. \nTopdog/Underdog\nWritten by Suzan-Lori Parks\nDirected by Shanésia Davis\nSeptember 13- October 20\, 2024 | Filament Theatre \nPlease note that while all evening performances are 7:30pm\, the exception will be OPENING NIGHT\, Sunday\, September 22nd\, which opens at 6:00pm. \nAll Sunday matinee performances will have a 3:00pm start. \nACCESSIBLE PERFORMANCES \n\nFriday October 11\, 2024: Open-Captioned\, Assistive Listening Devices Available by Request\nSaturday\, October 12\, 2024: Open Captioned and Audio Described\, Assistive Listening Devices Available by Request\nThursday performances are masked!\n\nCAST\nMartel Manning (Lincoln)\, Gregory Fenner (Booth) \nCarlos Washington (U/S Lincoln)\, Jermaine Jenkins (U/S Booth) \nSTAGE MANAGER\nSarah Luse \nPRODUCTION MANAGER\nJennifer Aparicio \nTECHNICAL DIRECTOR\nDavid Preis \nCASTING\nCyd Blakewell
URL:https://thegifttheatre.org/event/topdog-underdog-by-suzan-lori-parks-2-2/2024-10-17/
LOCATION:Filament Theater\, 4041 N. Milwaukee\, Chicago\, IL\, 60641
CATEGORIES:Production
ATTACH;FMTTYPE=image/jpeg:https://thegifttheatre.org/wp-content/uploads/2024/04/IG_Topdog_Final-scaled.jpg
END:VEVENT
BEGIN:VEVENT
DTSTART;TZID=America/Chicago:20241018T193000
DTEND;TZID=America/Chicago:20241018T220000
DTSTAMP:20260420T101109
CREATED:20240927T173750Z
LAST-MODIFIED:20240927T173750Z
UID:10003316-1729279800-1729288800@thegifttheatre.org
SUMMARY:TOPDOG/UNDERDOG by Suzan-Lori Parks
DESCRIPTION:This darkly comic fable of brotherly love and family identity tells the story of two brothers\, Lincoln (Manning) and Booth (Fenner)\, names given to them as a joke by their father. Haunted by the past and their obsession with the street con game\, three-card monte\, the brothers come to learn the true nature of their history. \nThe Gift Theatre’s Topdog/Underdog opens at Filament Theatre. \nTopdog/Underdog\nWritten by Suzan-Lori Parks\nDirected by Shanésia Davis\nSeptember 13- October 20\, 2024 | Filament Theatre \nPlease note that while all evening performances are 7:30pm\, the exception will be OPENING NIGHT\, Sunday\, September 22nd\, which opens at 6:00pm. \nAll Sunday matinee performances will have a 3:00pm start. \nACCESSIBLE PERFORMANCES \n\nFriday October 11\, 2024: Open-Captioned\, Assistive Listening Devices Available by Request\nSaturday\, October 12\, 2024: Open Captioned and Audio Described\, Assistive Listening Devices Available by Request\nThursday performances are masked!\n\nCAST\nMartel Manning (Lincoln)\, Gregory Fenner (Booth) \nCarlos Washington (U/S Lincoln)\, Jermaine Jenkins (U/S Booth) \nSTAGE MANAGER\nSarah Luse \nPRODUCTION MANAGER\nJennifer Aparicio \nTECHNICAL DIRECTOR\nDavid Preis \nCASTING\nCyd Blakewell
URL:https://thegifttheatre.org/event/topdog-underdog-by-suzan-lori-parks-2-2/2024-10-18/
LOCATION:Filament Theater\, 4041 N. Milwaukee\, Chicago\, IL\, 60641
CATEGORIES:Production
ATTACH;FMTTYPE=image/jpeg:https://thegifttheatre.org/wp-content/uploads/2024/04/IG_Topdog_Final-scaled.jpg
END:VEVENT
BEGIN:VEVENT
DTSTART;TZID=America/Chicago:20241019T193000
DTEND;TZID=America/Chicago:20241019T220000
DTSTAMP:20260420T101109
CREATED:20240927T173750Z
LAST-MODIFIED:20240927T173750Z
UID:10003317-1729366200-1729375200@thegifttheatre.org
SUMMARY:TOPDOG/UNDERDOG by Suzan-Lori Parks
DESCRIPTION:This darkly comic fable of brotherly love and family identity tells the story of two brothers\, Lincoln (Manning) and Booth (Fenner)\, names given to them as a joke by their father. Haunted by the past and their obsession with the street con game\, three-card monte\, the brothers come to learn the true nature of their history. \nThe Gift Theatre’s Topdog/Underdog opens at Filament Theatre. \nTopdog/Underdog\nWritten by Suzan-Lori Parks\nDirected by Shanésia Davis\nSeptember 13- October 20\, 2024 | Filament Theatre \nPlease note that while all evening performances are 7:30pm\, the exception will be OPENING NIGHT\, Sunday\, September 22nd\, which opens at 6:00pm. \nAll Sunday matinee performances will have a 3:00pm start. \nACCESSIBLE PERFORMANCES \n\nFriday October 11\, 2024: Open-Captioned\, Assistive Listening Devices Available by Request\nSaturday\, October 12\, 2024: Open Captioned and Audio Described\, Assistive Listening Devices Available by Request\nThursday performances are masked!\n\nCAST\nMartel Manning (Lincoln)\, Gregory Fenner (Booth) \nCarlos Washington (U/S Lincoln)\, Jermaine Jenkins (U/S Booth) \nSTAGE MANAGER\nSarah Luse \nPRODUCTION MANAGER\nJennifer Aparicio \nTECHNICAL DIRECTOR\nDavid Preis \nCASTING\nCyd Blakewell
URL:https://thegifttheatre.org/event/topdog-underdog-by-suzan-lori-parks-2-2/2024-10-19/
LOCATION:Filament Theater\, 4041 N. Milwaukee\, Chicago\, IL\, 60641
CATEGORIES:Production
ATTACH;FMTTYPE=image/jpeg:https://thegifttheatre.org/wp-content/uploads/2024/04/IG_Topdog_Final-scaled.jpg
END:VEVENT
BEGIN:VEVENT
DTSTART;TZID=America/Chicago:20241020T150000
DTEND;TZID=America/Chicago:20241020T173000
DTSTAMP:20260420T101109
CREATED:20240927T173750Z
LAST-MODIFIED:20240927T173750Z
UID:10003330-1729436400-1729445400@thegifttheatre.org
SUMMARY:TOPDOG/UNDERDOG by Suzan-Lori Parks
DESCRIPTION:This darkly comic fable of brotherly love and family identity tells the story of two brothers\, Lincoln (Manning) and Booth (Fenner)\, names given to them as a joke by their father. Haunted by the past and their obsession with the street con game\, three-card monte\, the brothers come to learn the true nature of their history. \nThe Gift Theatre’s Topdog/Underdog opens at Filament Theatre. \nTopdog/Underdog\nWritten by Suzan-Lori Parks\nDirected by Shanésia Davis\nSeptember 13- October 20\, 2024 | Filament Theatre \nPlease note that while all evening performances are 7:30pm\, the exception will be OPENING NIGHT\, Sunday\, September 22nd\, which opens at 6:00pm. \nAll Sunday matinee performances will have a 3:00pm start. \nACCESSIBLE PERFORMANCES \n\nFriday October 11\, 2024: Open-Captioned\, Assistive Listening Devices Available by Request\nSaturday\, October 12\, 2024: Open Captioned and Audio Described\, Assistive Listening Devices Available by Request\nThursday performances are masked!\n\nCAST\nMartel Manning (Lincoln)\, Gregory Fenner (Booth) \nCarlos Washington (U/S Lincoln)\, Jermaine Jenkins (U/S Booth) \nSTAGE MANAGER\nSarah Luse \nPRODUCTION MANAGER\nJennifer Aparicio \nTECHNICAL DIRECTOR\nDavid Preis \nCASTING\nCyd Blakewell
URL:https://thegifttheatre.org/event/topdog-underdog-by-suzan-lori-parks-2-2/2024-10-20/
LOCATION:Filament Theater\, 4041 N. Milwaukee\, Chicago\, IL\, 60641
CATEGORIES:Production
ATTACH;FMTTYPE=image/jpeg:https://thegifttheatre.org/wp-content/uploads/2024/04/IG_Topdog_Final-scaled.jpg
END:VEVENT
BEGIN:VEVENT
DTSTART;TZID=America/Chicago:20241027T190000
DTEND;TZID=America/Chicago:20241027T210000
DTSTAMP:20260420T101109
CREATED:20241014T191522Z
LAST-MODIFIED:20241014T191912Z
UID:10003333-1730055600-1730062800@thegifttheatre.org
SUMMARY:GhostLit: In a Dark Dark Wood
DESCRIPTION:Join us for GhostLIT\, our first annual spooky-season GiftLIT event! Gather around the proverbial campfire for an evening of haunting stories\, poetry\, and songs. Enjoy festive activities and treats\, then cozy up to the fire and be chilled to the bone by frightful tales. \n  \nGiftLIT is the literary branch of The Gift Theatre\, where writers and performers unite to share their stories. More than just supporting writers\, GiftLIT keeps oral traditions alive\, sparks conversation\, and shines a light on the importance of everyone’s stories. \n  \nGet Gift. Get Lit. GiftLIT. \nTickets: $25
URL:https://thegifttheatre.org/event/ghostlit-in-a-dark-dark-wood/
LOCATION:IL
ATTACH;FMTTYPE=image/jpeg:https://thegifttheatre.org/wp-content/uploads/2024/10/ghostlit.jpg
END:VEVENT
END:VCALENDAR