BEGIN:VCALENDAR
VERSION:2.0
PRODID:-//The Gift Theatre - ECPv6.15.20//NONSGML v1.0//EN
CALSCALE:GREGORIAN
METHOD:PUBLISH
X-WR-CALNAME:The Gift Theatre
X-ORIGINAL-URL:https://thegifttheatre.org
X-WR-CALDESC:Events for The Gift Theatre
REFRESH-INTERVAL;VALUE=DURATION:PT1H
X-Robots-Tag:noindex
X-PUBLISHED-TTL:PT1H
BEGIN:VTIMEZONE
TZID:America/Chicago
BEGIN:DAYLIGHT
TZOFFSETFROM:-0600
TZOFFSETTO:-0500
TZNAME:CDT
DTSTART:20220313T080000
END:DAYLIGHT
BEGIN:STANDARD
TZOFFSETFROM:-0500
TZOFFSETTO:-0600
TZNAME:CST
DTSTART:20221106T070000
END:STANDARD
BEGIN:DAYLIGHT
TZOFFSETFROM:-0600
TZOFFSETTO:-0500
TZNAME:CDT
DTSTART:20230312T080000
END:DAYLIGHT
BEGIN:STANDARD
TZOFFSETFROM:-0500
TZOFFSETTO:-0600
TZNAME:CST
DTSTART:20231105T070000
END:STANDARD
BEGIN:DAYLIGHT
TZOFFSETFROM:-0600
TZOFFSETTO:-0500
TZNAME:CDT
DTSTART:20240310T080000
END:DAYLIGHT
BEGIN:STANDARD
TZOFFSETFROM:-0500
TZOFFSETTO:-0600
TZNAME:CST
DTSTART:20241103T070000
END:STANDARD
END:VTIMEZONE
BEGIN:VEVENT
DTSTART;TZID=America/Chicago:20231001T150000
DTEND;TZID=America/Chicago:20231001T170000
DTSTAMP:20260419T190413
CREATED:20240202T070749Z
LAST-MODIFIED:20240202T070750Z
UID:10001606-1696172400-1696179600@thegifttheatre.org
SUMMARY:THE RISE AND FALL OF LITTLE VOICE
DESCRIPTION:Blown fuses\, real and metaphorical\, punctuate the action with flashes of pent up energy in this acclaimed play. The diminutive heroine frequently plunges the dilapidated house she shares with her alcoholic mother into darkness by playing her dead father’s records at a volume matched only by the soulful power of her vocal impressions. Little Voice has a hidden talent: she can emulate every chanteuse from Judy Garland to Edith Piaf. She hides in her room\, crooning and dreaming of love\, while her disheveled mother mistakes a seedy agent’s interest as affection rather than enthusiasm for the gold mine buried in her daughter’s throat. This is an engaging fairy tale of despair\, love and finally hope as LV finds a voice of her own.
URL:https://thegifttheatre.org/event/the-rise-and-fall-of-little-voice-2-3/
LOCATION:Filament Theater\, 4041 N. Milwaukee\, Chicago\, IL\, 60641
CATEGORIES:Production
END:VEVENT
BEGIN:VEVENT
DTSTART;TZID=America/Chicago:20231002T193000
DTEND;TZID=America/Chicago:20231002T220000
DTSTAMP:20260419T190413
CREATED:20230815T145103Z
LAST-MODIFIED:20230823T170407Z
UID:10001783-1696275000-1696284000@thegifttheatre.org
SUMMARY:THE RISE AND FALL OF LITTLE VOICE - Industry Performance
DESCRIPTION:Blown fuses\, real and metaphorical\, punctuate the action with flashes of pent up energy in this acclaimed play. The diminutive heroine frequently plunges the dilapidated house she shares with her alcoholic mother into darkness by playing her dead father’s records at a volume matched only by the soulful power of her vocal impressions. Little Voice has a hidden talent: she can emulate every chanteuse from Judy Garland to Edith Piaf. She hides in her room\, crooning and dreaming of love\, while her disheveled mother mistakes a seedy agent’s interest as affection rather than enthusiasm for the gold mine buried in her daughter’s throat. This is an engaging fairy tale of despair\, love and finally hope as LV finds a voice of her own.
URL:https://thegifttheatre.org/event/the-rise-and-fall-of-little-voice-industry-performance/
LOCATION:Filament Theater\, 4041 N. Milwaukee\, Chicago\, IL\, 60641
END:VEVENT
BEGIN:VEVENT
DTSTART;TZID=America/Chicago:20231005T193000
DTEND;TZID=America/Chicago:20231005T220000
DTSTAMP:20260419T190413
CREATED:20240202T070749Z
LAST-MODIFIED:20240202T070750Z
UID:10001588-1696534200-1696543200@thegifttheatre.org
SUMMARY:THE RISE AND FALL OF LITTLE VOICE
DESCRIPTION:Blown fuses\, real and metaphorical\, punctuate the action with flashes of pent up energy in this acclaimed play. The diminutive heroine frequently plunges the dilapidated house she shares with her alcoholic mother into darkness by playing her dead father’s records at a volume matched only by the soulful power of her vocal impressions. Little Voice has a hidden talent: she can emulate every chanteuse from Judy Garland to Edith Piaf. She hides in her room\, crooning and dreaming of love\, while her disheveled mother mistakes a seedy agent’s interest as affection rather than enthusiasm for the gold mine buried in her daughter’s throat. This is an engaging fairy tale of despair\, love and finally hope as LV finds a voice of her own.
URL:https://thegifttheatre.org/event/the-rise-and-fall-of-little-voice-2-3/
LOCATION:Filament Theater\, 4041 N. Milwaukee\, Chicago\, IL\, 60641
CATEGORIES:Production
END:VEVENT
BEGIN:VEVENT
DTSTART;TZID=America/Chicago:20231006T193000
DTEND;TZID=America/Chicago:20231006T220000
DTSTAMP:20260419T190413
CREATED:20240202T070749Z
LAST-MODIFIED:20240202T070750Z
UID:10001589-1696620600-1696629600@thegifttheatre.org
SUMMARY:THE RISE AND FALL OF LITTLE VOICE
DESCRIPTION:Blown fuses\, real and metaphorical\, punctuate the action with flashes of pent up energy in this acclaimed play. The diminutive heroine frequently plunges the dilapidated house she shares with her alcoholic mother into darkness by playing her dead father’s records at a volume matched only by the soulful power of her vocal impressions. Little Voice has a hidden talent: she can emulate every chanteuse from Judy Garland to Edith Piaf. She hides in her room\, crooning and dreaming of love\, while her disheveled mother mistakes a seedy agent’s interest as affection rather than enthusiasm for the gold mine buried in her daughter’s throat. This is an engaging fairy tale of despair\, love and finally hope as LV finds a voice of her own.
URL:https://thegifttheatre.org/event/the-rise-and-fall-of-little-voice-2-3/
LOCATION:Filament Theater\, 4041 N. Milwaukee\, Chicago\, IL\, 60641
CATEGORIES:Production
END:VEVENT
BEGIN:VEVENT
DTSTART;TZID=America/Chicago:20231007T193000
DTEND;TZID=America/Chicago:20231007T220000
DTSTAMP:20260419T190413
CREATED:20240202T070749Z
LAST-MODIFIED:20240202T070750Z
UID:10001590-1696707000-1696716000@thegifttheatre.org
SUMMARY:THE RISE AND FALL OF LITTLE VOICE
DESCRIPTION:Blown fuses\, real and metaphorical\, punctuate the action with flashes of pent up energy in this acclaimed play. The diminutive heroine frequently plunges the dilapidated house she shares with her alcoholic mother into darkness by playing her dead father’s records at a volume matched only by the soulful power of her vocal impressions. Little Voice has a hidden talent: she can emulate every chanteuse from Judy Garland to Edith Piaf. She hides in her room\, crooning and dreaming of love\, while her disheveled mother mistakes a seedy agent’s interest as affection rather than enthusiasm for the gold mine buried in her daughter’s throat. This is an engaging fairy tale of despair\, love and finally hope as LV finds a voice of her own.
URL:https://thegifttheatre.org/event/the-rise-and-fall-of-little-voice-2-3/
LOCATION:Filament Theater\, 4041 N. Milwaukee\, Chicago\, IL\, 60641
CATEGORIES:Production
END:VEVENT
BEGIN:VEVENT
DTSTART;TZID=America/Chicago:20231008T150000
DTEND;TZID=America/Chicago:20231008T170000
DTSTAMP:20260419T190413
CREATED:20240202T070749Z
LAST-MODIFIED:20240202T070750Z
UID:10001607-1696777200-1696784400@thegifttheatre.org
SUMMARY:THE RISE AND FALL OF LITTLE VOICE
DESCRIPTION:Blown fuses\, real and metaphorical\, punctuate the action with flashes of pent up energy in this acclaimed play. The diminutive heroine frequently plunges the dilapidated house she shares with her alcoholic mother into darkness by playing her dead father’s records at a volume matched only by the soulful power of her vocal impressions. Little Voice has a hidden talent: she can emulate every chanteuse from Judy Garland to Edith Piaf. She hides in her room\, crooning and dreaming of love\, while her disheveled mother mistakes a seedy agent’s interest as affection rather than enthusiasm for the gold mine buried in her daughter’s throat. This is an engaging fairy tale of despair\, love and finally hope as LV finds a voice of her own.
URL:https://thegifttheatre.org/event/the-rise-and-fall-of-little-voice-2-3/
LOCATION:Filament Theater\, 4041 N. Milwaukee\, Chicago\, IL\, 60641
CATEGORIES:Production
END:VEVENT
BEGIN:VEVENT
DTSTART;TZID=America/Chicago:20231012T193000
DTEND;TZID=America/Chicago:20231012T220000
DTSTAMP:20260419T190413
CREATED:20240202T070749Z
LAST-MODIFIED:20240202T070750Z
UID:10001591-1697139000-1697148000@thegifttheatre.org
SUMMARY:THE RISE AND FALL OF LITTLE VOICE
DESCRIPTION:Blown fuses\, real and metaphorical\, punctuate the action with flashes of pent up energy in this acclaimed play. The diminutive heroine frequently plunges the dilapidated house she shares with her alcoholic mother into darkness by playing her dead father’s records at a volume matched only by the soulful power of her vocal impressions. Little Voice has a hidden talent: she can emulate every chanteuse from Judy Garland to Edith Piaf. She hides in her room\, crooning and dreaming of love\, while her disheveled mother mistakes a seedy agent’s interest as affection rather than enthusiasm for the gold mine buried in her daughter’s throat. This is an engaging fairy tale of despair\, love and finally hope as LV finds a voice of her own.
URL:https://thegifttheatre.org/event/the-rise-and-fall-of-little-voice-2-3/
LOCATION:Filament Theater\, 4041 N. Milwaukee\, Chicago\, IL\, 60641
CATEGORIES:Production
END:VEVENT
BEGIN:VEVENT
DTSTART;TZID=America/Chicago:20231013T193000
DTEND;TZID=America/Chicago:20231013T220000
DTSTAMP:20260419T190413
CREATED:20240202T070749Z
LAST-MODIFIED:20240202T070750Z
UID:10001592-1697225400-1697234400@thegifttheatre.org
SUMMARY:THE RISE AND FALL OF LITTLE VOICE
DESCRIPTION:Blown fuses\, real and metaphorical\, punctuate the action with flashes of pent up energy in this acclaimed play. The diminutive heroine frequently plunges the dilapidated house she shares with her alcoholic mother into darkness by playing her dead father’s records at a volume matched only by the soulful power of her vocal impressions. Little Voice has a hidden talent: she can emulate every chanteuse from Judy Garland to Edith Piaf. She hides in her room\, crooning and dreaming of love\, while her disheveled mother mistakes a seedy agent’s interest as affection rather than enthusiasm for the gold mine buried in her daughter’s throat. This is an engaging fairy tale of despair\, love and finally hope as LV finds a voice of her own.
URL:https://thegifttheatre.org/event/the-rise-and-fall-of-little-voice-2-3/
LOCATION:Filament Theater\, 4041 N. Milwaukee\, Chicago\, IL\, 60641
CATEGORIES:Production
END:VEVENT
BEGIN:VEVENT
DTSTART;TZID=America/Chicago:20231014T193000
DTEND;TZID=America/Chicago:20231014T220000
DTSTAMP:20260419T190413
CREATED:20240202T070749Z
LAST-MODIFIED:20240202T070750Z
UID:10001593-1697311800-1697320800@thegifttheatre.org
SUMMARY:THE RISE AND FALL OF LITTLE VOICE
DESCRIPTION:Blown fuses\, real and metaphorical\, punctuate the action with flashes of pent up energy in this acclaimed play. The diminutive heroine frequently plunges the dilapidated house she shares with her alcoholic mother into darkness by playing her dead father’s records at a volume matched only by the soulful power of her vocal impressions. Little Voice has a hidden talent: she can emulate every chanteuse from Judy Garland to Edith Piaf. She hides in her room\, crooning and dreaming of love\, while her disheveled mother mistakes a seedy agent’s interest as affection rather than enthusiasm for the gold mine buried in her daughter’s throat. This is an engaging fairy tale of despair\, love and finally hope as LV finds a voice of her own.
URL:https://thegifttheatre.org/event/the-rise-and-fall-of-little-voice-2-3/
LOCATION:Filament Theater\, 4041 N. Milwaukee\, Chicago\, IL\, 60641
CATEGORIES:Production
END:VEVENT
BEGIN:VEVENT
DTSTART;TZID=America/Chicago:20231015T150000
DTEND;TZID=America/Chicago:20231015T170000
DTSTAMP:20260419T190413
CREATED:20240202T065638Z
LAST-MODIFIED:20240202T070607Z
UID:10001608-1697382000-1697389200@thegifttheatre.org
SUMMARY:THE RISE AND FALL OF LITTLE VOICE
DESCRIPTION:Blown fuses\, real and metaphorical\, punctuate the action with flashes of pent-up energy in this acclaimed play. The diminutive heroine frequently plunges the dilapidated house she shares with her alcoholic mother into darkness by playing her dead father’s records at a volume matched only by the soulful power of her vocal impressions. Little Voice has a hidden talent: she can emulate every chanteuse from Judy Garland to Edith Piaf. She hides in her room\, crooning and dreaming of love\, while her disheveled mother mistakes a seedy agent’s interest as affection rather than enthusiasm for the gold mine buried in her daughter’s throat. This is an engaging fairy tale of despair\, love and finally hope as LV finds a voice of her own.
URL:https://thegifttheatre.org/event/the-rise-and-fall-of-little-voice-2-2/
LOCATION:Filament Theater\, 4041 N. Milwaukee\, Chicago\, IL\, 60641
CATEGORIES:Production
END:VEVENT
BEGIN:VEVENT
DTSTART;TZID=America/Chicago:20231015T150000
DTEND;TZID=America/Chicago:20231015T170000
DTSTAMP:20260419T190413
CREATED:20240202T070749Z
LAST-MODIFIED:20240202T070750Z
UID:10001959-1697382000-1697389200@thegifttheatre.org
SUMMARY:THE RISE AND FALL OF LITTLE VOICE
DESCRIPTION:Blown fuses\, real and metaphorical\, punctuate the action with flashes of pent up energy in this acclaimed play. The diminutive heroine frequently plunges the dilapidated house she shares with her alcoholic mother into darkness by playing her dead father’s records at a volume matched only by the soulful power of her vocal impressions. Little Voice has a hidden talent: she can emulate every chanteuse from Judy Garland to Edith Piaf. She hides in her room\, crooning and dreaming of love\, while her disheveled mother mistakes a seedy agent’s interest as affection rather than enthusiasm for the gold mine buried in her daughter’s throat. This is an engaging fairy tale of despair\, love and finally hope as LV finds a voice of her own.
URL:https://thegifttheatre.org/event/the-rise-and-fall-of-little-voice-2-3/
LOCATION:Filament Theater\, 4041 N. Milwaukee\, Chicago\, IL\, 60641
CATEGORIES:Production
END:VEVENT
END:VCALENDAR