BEGIN:VCALENDAR
VERSION:2.0
PRODID:-//The Gift Theatre - ECPv6.15.20//NONSGML v1.0//EN
CALSCALE:GREGORIAN
METHOD:PUBLISH
X-WR-CALNAME:The Gift Theatre
X-ORIGINAL-URL:https://thegifttheatre.org
X-WR-CALDESC:Events for The Gift Theatre
REFRESH-INTERVAL;VALUE=DURATION:PT1H
X-Robots-Tag:noindex
X-PUBLISHED-TTL:PT1H
BEGIN:VTIMEZONE
TZID:America/Chicago
BEGIN:DAYLIGHT
TZOFFSETFROM:-0600
TZOFFSETTO:-0500
TZNAME:CDT
DTSTART:20220313T080000
END:DAYLIGHT
BEGIN:STANDARD
TZOFFSETFROM:-0500
TZOFFSETTO:-0600
TZNAME:CST
DTSTART:20221106T070000
END:STANDARD
BEGIN:DAYLIGHT
TZOFFSETFROM:-0600
TZOFFSETTO:-0500
TZNAME:CDT
DTSTART:20230312T080000
END:DAYLIGHT
BEGIN:STANDARD
TZOFFSETFROM:-0500
TZOFFSETTO:-0600
TZNAME:CST
DTSTART:20231105T070000
END:STANDARD
BEGIN:DAYLIGHT
TZOFFSETFROM:-0600
TZOFFSETTO:-0500
TZNAME:CDT
DTSTART:20240310T080000
END:DAYLIGHT
BEGIN:STANDARD
TZOFFSETFROM:-0500
TZOFFSETTO:-0600
TZNAME:CST
DTSTART:20241103T070000
END:STANDARD
END:VTIMEZONE
BEGIN:VEVENT
DTSTART;TZID=America/Chicago:20230414T180000
DTEND;TZID=America/Chicago:20230414T223000
DTSTAMP:20260419T124157
CREATED:20221122T173003Z
LAST-MODIFIED:20230404T184439Z
UID:10001618-1681495200-1681511400@thegifttheatre.org
SUMMARY:2023 The Gift Gala
DESCRIPTION:At The Gift Theatre we believe that every great story is kind of a love story\, and so we cordially invite you to celebrate ours with an intimate evening as we embrace our unique theatre and the individuals who make it all possible. Set within the contemporary-chic confines of Greenhouse Loft\, guests will indulge in fine faire\, libations\, silent and live auctions with one-of-a-kind items\, and dancing. We hope you’ll join us for a memorable evening and toast toward the future\, as we strive to continue producing art with honesty and simplicity\, in a manner accessible to all. \nGift Gala Raffle \nFirst Prize-Two Premium Tickets to A DOLL’S HOUSE on Broadway starring Gift founder Michael Patrick Thornton\, an opening night cast-signed poster and program\, a $200 travel gift card and a meet and greet onstage post show with a champagne toast. \nSecond Prize-Two Gift Season Subscriptions \nThird Prize-Two Tickets to any Gift Theater performance.
URL:https://thegifttheatre.org/event/2023-the-gift-gala/
LOCATION:IL
ATTACH;FMTTYPE=image/jpeg:https://thegifttheatre.org/wp-content/uploads/2022/11/DRAFT-Gala-Logo.jpg
END:VEVENT
END:VCALENDAR